BEGIN:VCALENDAR
VERSION:2.0
PRODID:-//Sant Francesc de Ciutadella - ECPv6.15.20//NONSGML v1.0//EN
CALSCALE:GREGORIAN
METHOD:PUBLISH
X-WR-CALNAME:Sant Francesc de Ciutadella
X-ORIGINAL-URL:https://sant-francesc.eu
X-WR-CALDESC:Eventos para Sant Francesc de Ciutadella
REFRESH-INTERVAL;VALUE=DURATION:PT1H
X-Robots-Tag:noindex
X-PUBLISHED-TTL:PT1H
BEGIN:VTIMEZONE
TZID:Europe/Madrid
BEGIN:DAYLIGHT
TZOFFSETFROM:+0100
TZOFFSETTO:+0200
TZNAME:CEST
DTSTART:20250330T010000
END:DAYLIGHT
BEGIN:STANDARD
TZOFFSETFROM:+0200
TZOFFSETTO:+0100
TZNAME:CET
DTSTART:20251026T010000
END:STANDARD
BEGIN:DAYLIGHT
TZOFFSETFROM:+0100
TZOFFSETTO:+0200
TZNAME:CEST
DTSTART:20260329T010000
END:DAYLIGHT
BEGIN:STANDARD
TZOFFSETFROM:+0200
TZOFFSETTO:+0100
TZNAME:CET
DTSTART:20261025T010000
END:STANDARD
BEGIN:DAYLIGHT
TZOFFSETFROM:+0100
TZOFFSETTO:+0200
TZNAME:CEST
DTSTART:20270328T010000
END:DAYLIGHT
BEGIN:STANDARD
TZOFFSETFROM:+0200
TZOFFSETTO:+0100
TZNAME:CET
DTSTART:20271031T010000
END:STANDARD
END:VTIMEZONE
BEGIN:VEVENT
DTSTART;VALUE=DATE:20260921
DTEND;VALUE=DATE:20260922
DTSTAMP:20260421T102814
CREATED:20250914T035334Z
LAST-MODIFIED:20250914T035334Z
UID:10000280-1789948800-1790035199@sant-francesc.eu
SUMMARY:San Mateo\, apóstol y evangelista 2026
DESCRIPTION:Mateo era cobrador de impuestos en Cafarnaúm: recaudaba las tasas que los judíos tenían que pagar a los romanos; como todos los que se dedicaban a ese oficio\, era despreciado por el pueblo\, que lo consideraba cercano a los opresores. Probablemente Mateo se había acostumbrado a ello; pero un día\, cuando estaba sentado en su oficina\, oyó una voz diferente. Un hombre le dijo solamente: “Sígueme”. Y él se levantó y lo siguió\, para siempre. Ese hombre era Jesús\, y la vida de Mateo nunca más volvió a ser como antes. \nUn pecador que encuentra a Jesús\nLeví ofreció un gran banquete a Jesús\, que fue a su casa acompañado de sus discípulos\, suscitando el desconcierto y las críticas de los escribas y los fariseos porque se sentaba a la mesa con recaudadores de impuestos y pecadores. La respuesta de Jesús impresionó a Mateo: “No tienen necesidad de médico los que están sanos\, sino los que están enfermos”\, dijo el Nazareno\, añadiendo: “De hecho\, no he venido a llamar a justos\, sino a pecadores”. Mateo\, que era un pecador\, dejó todo y comenzó a seguir a Jesús\, convirtiéndose en uno de los doce Apóstoles. \nSan Mateo es mencionado también en los Hechos de los Apóstoles. El anuncio de la Buena Noticia de Cristo constituyó su misión. Según algunas fuentes\, murió por causas naturales\, mientras que según otras tradiciones -consideradas poco fiables- su vida terminó en Etiopía. \nSus reliquias se encuentran en la cripta de la Catedral de Salerno (Italia)\, donde se le festeja el 21 de septiembre con una solemne procesión. \nEn la descripción de los cuatro seres del Apocalipsis (águila\, toro\, león y hombre)\, San Mateo es asociado con el de aspecto humano. \nAutor del Evangelio destinado a los judíos\nSan Mateo escribió el Evangelio que lleva su nombre pensando en los cristianos de origen judío: en el texto enfatiza que Jesús es el Mesías que cumple las promesas del Antiguo Testamento. Se puede decir casi con certeza que escribió en arameo. \nDesde Mateo a Papa Francisco\, pasando por Caravaggio\nLa figura de San Mateo es muy querida por la iconografía. Particularmente conocida es la obra “Vocación de San Mateo”\, pintada por Caravaggio entre 1599 y 1600\, que se puede admirar en la Iglesia de San Luis de los Franceses en Roma. \nEn esta sugestiva pintura\, la luz\, símbolo de la gracia\, juega un papel fundamental. La escena implica una acción dramática: el dedo de Jesús apunta a Mateo\, que aún tiene las monedas en la mano. La historia de San Mateo y la pintura de Caravaggio han marcado la vida del Papa Francisco. Lo cuenta él mismo una la entrevista de 2013 realizada por el P. Antonio Spadaro para “La Civilización Católica”\, en la cual\, paragonándose a la figura de Mateo\, el Pontífice se define » un pecador en quien el Señor ha puesto sus ojos”. \nFuente: vaticannews.va
URL:https://sant-francesc.eu/evento/san-mateo-apostol-y-evangelista-2026/
LOCATION:Sant Francesc de Ciutadella\, Plaça des Born 8\, Ciutadella de Menorca\, Baleares\, 07760\, Spain
CATEGORIES:Calendario litúrgico 2026
ATTACH;FMTTYPE=image/webp:https://sant-francesc.eu/wp-content/uploads/2024/08/San-Mateo-apostol-y-evangelista-21-septiembre.webp
ORGANIZER;CN="Iglesia Cat%C3%B3lica":MAILTO:papafrancisco80@vatican.va
GEO:40.000516377673;3.837159257156
X-APPLE-STRUCTURED-LOCATION;VALUE=URI;X-ADDRESS=Sant Francesc de Ciutadella Plaça des Born 8 Ciutadella de Menorca Baleares 07760 Spain;X-APPLE-RADIUS=500;X-TITLE=Plaça des Born 8:geo:3.837159257156,40.000516377673
END:VEVENT
END:VCALENDAR